BEGIN:VCALENDAR
VERSION:2.0
PRODID:-//Ardee Mall - ECPv5.1.4//NONSGML v1.0//EN
CALSCALE:GREGORIAN
METHOD:PUBLISH
X-WR-CALNAME:Ardee Mall
X-ORIGINAL-URL:https://ardeemall.com
X-WR-CALDESC:Events for Ardee Mall
BEGIN:VTIMEZONE
TZID:UTC
BEGIN:STANDARD
TZOFFSETFROM:+0000
TZOFFSETTO:+0000
TZNAME:UTC
DTSTART:20220101T000000
END:STANDARD
END:VTIMEZONE
BEGIN:VEVENT
DTSTART;VALUE=DATE:20220506
DTEND;VALUE=DATE:20220516
DTSTAMP:20260424T033648
CREATED:20230226T042741Z
LAST-MODIFIED:20230226T042817Z
UID:10633-1651795200-1652659199@ardeemall.com
SUMMARY:The Cultural Gully
DESCRIPTION:      \n
URL:https://ardeemall.com/event/the-cultural-gully/
ATTACH;FMTTYPE=image/jpeg:https://ardeemall.com/wp-content/uploads/2023/02/280112785_1232339880904379_14869969860724529_n.jpg
END:VEVENT
END:VCALENDAR