BEGIN:VCALENDAR
VERSION:2.0
PRODID:-//Ardee Mall - ECPv5.1.4//NONSGML v1.0//EN
CALSCALE:GREGORIAN
METHOD:PUBLISH
X-WR-CALNAME:Ardee Mall
X-ORIGINAL-URL:https://ardeemall.com
X-WR-CALDESC:Events for Ardee Mall
BEGIN:VTIMEZONE
TZID:Asia/Kolkata
BEGIN:STANDARD
TZOFFSETFROM:+0530
TZOFFSETTO:+0530
TZNAME:IST
DTSTART:20190101T000000
END:STANDARD
END:VTIMEZONE
BEGIN:VEVENT
DTSTART;TZID=Asia/Kolkata:20190913T110000
DTEND;TZID=Asia/Kolkata:20190915T220000
DTSTAMP:20260424T185423
CREATED:20151127T095259Z
LAST-MODIFIED:20191209T061943Z
UID:8212-1568372400-1568584800@ardeemall.com
SUMMARY:The Ardee Bazaar
DESCRIPTION:SHOP TILL YOU DROP! \nEnjoy some fun shopping days at Ardee Bazaar for all your festive needs along with a mall full of your favorite shopping brands with a drool worthy food court and fine dine restaurants. Also\, stand a chance to win some cool prizes in a lucky draw. \n🗓 Date: 13th September 2019 – 15th September 2019\n🕚 Time: 11AM – 10 PM\n🏢 Venue: Ardee Mall\, Ardee City\, Sector 52\, Gurugram\n📱 Contact No.: +91-9999759973 \n
URL:https://ardeemall.com/event/the-ardee-bazaar/
LOCATION:Ardee Mall\, Ardee City Rd\, Block B\, Ardee City\, Sector 52\,\, Gurugram\, Haryana\, 122022\, India
CATEGORIES:Fashion
ATTACH;FMTTYPE=image/png:https://ardeemall.com/wp-content/uploads/2015/11/event.png
END:VEVENT
END:VCALENDAR