BEGIN:VCALENDAR
VERSION:2.0
PRODID:-//Ardee Mall - ECPv5.1.4//NONSGML v1.0//EN
CALSCALE:GREGORIAN
METHOD:PUBLISH
X-WR-CALNAME:Ardee Mall
X-ORIGINAL-URL:https://ardeemall.com
X-WR-CALDESC:Events for Ardee Mall
BEGIN:VTIMEZONE
TZID:UTC
BEGIN:STANDARD
TZOFFSETFROM:+0000
TZOFFSETTO:+0000
TZNAME:UTC
DTSTART:20220101T000000
END:STANDARD
END:VTIMEZONE
BEGIN:VEVENT
DTSTART;VALUE=DATE:20220609
DTEND;VALUE=DATE:20220624
DTSTAMP:20260424T020339
CREATED:20230226T043242Z
LAST-MODIFIED:20230226T043242Z
UID:10650-1654732800-1656028799@ardeemall.com
SUMMARY:Summer Fiesta
DESCRIPTION:   \n
URL:https://ardeemall.com/event/summer-fiesta/
ATTACH;FMTTYPE=image/jpeg:https://ardeemall.com/wp-content/uploads/2023/02/287957080_1257892658349101_5832730266964678121_n.jpg
END:VEVENT
END:VCALENDAR