BEGIN:VCALENDAR
VERSION:2.0
PRODID:-//Ardee Mall - ECPv5.1.4//NONSGML v1.0//EN
CALSCALE:GREGORIAN
METHOD:PUBLISH
X-WR-CALNAME:Ardee Mall
X-ORIGINAL-URL:https://ardeemall.com
X-WR-CALDESC:Events for Ardee Mall
BEGIN:VTIMEZONE
TZID:UTC
BEGIN:STANDARD
TZOFFSETFROM:+0000
TZOFFSETTO:+0000
TZNAME:UTC
DTSTART:20210101T000000
END:STANDARD
END:VTIMEZONE
BEGIN:VEVENT
DTSTART;VALUE=DATE:20211009
DTEND;VALUE=DATE:20211104
DTSTAMP:20260424T155227
CREATED:20211008T153829Z
LAST-MODIFIED:20211008T154214Z
UID:10234-1633737600-1635983999@ardeemall.com
SUMMARY:SHOPPING FIESTA
DESCRIPTION:Ardee Mall Gurugram is all set to give you days filled with fun\, shopping\, entertainment and infinite happiness at the Shopping Fiesta\, where you shop and we reward \n
URL:https://ardeemall.com/event/shopping-fiesta/
CATEGORIES:Entertainment,Fashion,Festival,Food
ATTACH;FMTTYPE=image/jpeg:https://ardeemall.com/wp-content/uploads/2021/10/WhatsApp-Image-2021-10-08-at-1.36.39-PM.jpeg
END:VEVENT
END:VCALENDAR