BEGIN:VCALENDAR
VERSION:2.0
PRODID:-//Ardee Mall - ECPv5.1.4//NONSGML v1.0//EN
CALSCALE:GREGORIAN
METHOD:PUBLISH
X-WR-CALNAME:Ardee Mall
X-ORIGINAL-URL:https://ardeemall.com
X-WR-CALDESC:Events for Ardee Mall
BEGIN:VTIMEZONE
TZID:UTC
BEGIN:STANDARD
TZOFFSETFROM:+0000
TZOFFSETTO:+0000
TZNAME:UTC
DTSTART:20220101T000000
END:STANDARD
END:VTIMEZONE
BEGIN:VEVENT
DTSTART;VALUE=DATE:20220710
DTEND;VALUE=DATE:20220711
DTSTAMP:20260423T125508
CREATED:20230226T043714Z
LAST-MODIFIED:20230226T043714Z
UID:10664-1657411200-1657497599@ardeemall.com
SUMMARY:Rakhi fair
DESCRIPTION:        \n
URL:https://ardeemall.com/event/rakhi-fair/
ATTACH;FMTTYPE=image/jpeg:https://ardeemall.com/wp-content/uploads/2023/02/296538338_1288577161947317_8097715502473070794_n.jpg
END:VEVENT
END:VCALENDAR