BEGIN:VCALENDAR
VERSION:2.0
PRODID:-//Ardee Mall - ECPv5.1.4//NONSGML v1.0//EN
CALSCALE:GREGORIAN
METHOD:PUBLISH
X-WR-CALNAME:Ardee Mall
X-ORIGINAL-URL:https://ardeemall.com
X-WR-CALDESC:Events for Ardee Mall
BEGIN:VTIMEZONE
TZID:UTC
BEGIN:STANDARD
TZOFFSETFROM:+0000
TZOFFSETTO:+0000
TZNAME:UTC
DTSTART:20200101T000000
END:STANDARD
END:VTIMEZONE
BEGIN:VEVENT
DTSTART;TZID=UTC:20200306T110000
DTEND;TZID=UTC:20200308T230000
DTSTAMP:20260424T172709
CREATED:20200304T125943Z
LAST-MODIFIED:20200304T130905Z
UID:9973-1583492400-1583708400@ardeemall.com
SUMMARY:Pamper Zone
DESCRIPTION:There is every reason to pamper yourself because Ardee Mall is celebrating womanhood by offering a special Pamper Zone service to all you women from March 06 – March 08. Learn grooming\, makeup\, etc. from the experts and win complimentary services. \n🏢 Venue: Ardee Mall Atrium\, Sector 52\, Gurugram\n🗓 Date: 6th March 2020 – 8th March 2020\n🕚 Time: 11AM – 11PM \n
URL:https://ardeemall.com/event/pamper-zone/
LOCATION:Ardee Mall\, Ardee City Rd\, Block B\, Ardee City\, Sector 52\,\, Gurugram\, Haryana\, 122022\, India
CATEGORIES:Wellness
ATTACH;FMTTYPE=image/jpeg:https://ardeemall.com/wp-content/uploads/2020/03/2020-03-04.jpg
END:VEVENT
END:VCALENDAR