BEGIN:VCALENDAR
VERSION:2.0
PRODID:-//Ardee Mall - ECPv5.1.4//NONSGML v1.0//EN
CALSCALE:GREGORIAN
METHOD:PUBLISH
X-WR-CALNAME:Ardee Mall
X-ORIGINAL-URL:https://ardeemall.com
X-WR-CALDESC:Events for Ardee Mall
BEGIN:VTIMEZONE
TZID:UTC
BEGIN:STANDARD
TZOFFSETFROM:+0000
TZOFFSETTO:+0000
TZNAME:UTC
DTSTART:20220101T000000
END:STANDARD
END:VTIMEZONE
BEGIN:VEVENT
DTSTART;VALUE=DATE:20220508
DTEND;VALUE=DATE:20220509
DTSTAMP:20260424T031434
CREATED:20230226T042201Z
LAST-MODIFIED:20230226T042201Z
UID:10625-1651968000-1652054399@ardeemall.com
SUMMARY:Mother's day
DESCRIPTION:     \n
URL:https://ardeemall.com/event/mothers-day/
ATTACH;FMTTYPE=image/jpeg:https://ardeemall.com/wp-content/uploads/2023/02/280066937_1234336137371420_5790243811953688834_n.jpg
END:VEVENT
END:VCALENDAR