BEGIN:VCALENDAR
VERSION:2.0
PRODID:-//Ardee Mall - ECPv5.1.4//NONSGML v1.0//EN
CALSCALE:GREGORIAN
METHOD:PUBLISH
X-WR-CALNAME:Ardee Mall
X-ORIGINAL-URL:https://ardeemall.com
X-WR-CALDESC:Events for Ardee Mall
BEGIN:VTIMEZONE
TZID:UTC
BEGIN:STANDARD
TZOFFSETFROM:+0000
TZOFFSETTO:+0000
TZNAME:UTC
DTSTART:20200101T000000
END:STANDARD
END:VTIMEZONE
BEGIN:VEVENT
DTSTART;TZID=UTC:20200221T110000
DTEND;TZID=UTC:20200223T230000
DTSTAMP:20260424T155428
CREATED:20200221T061556Z
LAST-MODIFIED:20200221T061556Z
UID:9933-1582282800-1582498800@ardeemall.com
SUMMARY:Gurgaon's Trendiest Auto Show
DESCRIPTION:Here is your chance to get a sneak peek at the latest and the best autos hitting the town at India Auto Show from February 21-23\, 2020\, only at Ardee Mall\, Sector-52\, Gurugram. \n
URL:https://ardeemall.com/event/gurgaons-trendiest-auto-show/
LOCATION:Ardee Mall\, Ardee City Rd\, Block B\, Ardee City\, Sector 52\,\, Gurugram\, Haryana\, 122022\, India
CATEGORIES:Entertainment,Sales
ATTACH;FMTTYPE=image/jpeg:https://ardeemall.com/wp-content/uploads/2020/02/2020-02-20.jpg
END:VEVENT
END:VCALENDAR