BEGIN:VCALENDAR
VERSION:2.0
PRODID:-//Ardee Mall - ECPv5.1.4//NONSGML v1.0//EN
CALSCALE:GREGORIAN
METHOD:PUBLISH
X-WR-CALNAME:Ardee Mall
X-ORIGINAL-URL:https://ardeemall.com
X-WR-CALDESC:Events for Ardee Mall
BEGIN:VTIMEZONE
TZID:UTC
BEGIN:STANDARD
TZOFFSETFROM:+0000
TZOFFSETTO:+0000
TZNAME:UTC
DTSTART:20200101T000000
END:STANDARD
END:VTIMEZONE
BEGIN:VEVENT
DTSTART;TZID=UTC:20200313T110000
DTEND;TZID=UTC:20200315T230000
DTSTAMP:20260424T172900
CREATED:20200312T130212Z
LAST-MODIFIED:20200312T130212Z
UID:10103-1584097200-1584313200@ardeemall.com
SUMMARY:Fitness Zone
DESCRIPTION:A fit woman is a strong woman. Ardee Mall is celebrating womanhood this spring by organizing a dedicated fitness zone for women in association with Anytime Fitness. Fun challenges clubbed with fitness routines plus cool gift and gym membership on offer. \n🏢 Venue: Ardee Mall Atrium\, Sector 52\, Gurugram\n🗓 Date: 13th March 2020 – 15th March 2020\n🕚 Time: 11AM – 11PM \n
URL:https://ardeemall.com/event/fitness-zone/
LOCATION:Ardee Mall\, Ardee City Rd\, Block B\, Ardee City\, Sector 52\,\, Gurugram\, Haryana\, 122022\, India
CATEGORIES:Wellness
ATTACH;FMTTYPE=image/jpeg:https://ardeemall.com/wp-content/uploads/2020/03/Fitness-Zone-Web-Events.jpg
END:VEVENT
END:VCALENDAR