BEGIN:VCALENDAR
VERSION:2.0
PRODID:-//Ardee Mall - ECPv5.1.4//NONSGML v1.0//EN
CALSCALE:GREGORIAN
METHOD:PUBLISH
X-WR-CALNAME:Ardee Mall
X-ORIGINAL-URL:https://ardeemall.com
X-WR-CALDESC:Events for Ardee Mall
BEGIN:VTIMEZONE
TZID:UTC
BEGIN:STANDARD
TZOFFSETFROM:+0000
TZOFFSETTO:+0000
TZNAME:UTC
DTSTART:20200101T000000
END:STANDARD
END:VTIMEZONE
BEGIN:VEVENT
DTSTART;TZID=UTC:20201230T180000
DTEND;TZID=UTC:20201231T210000
DTSTAMP:20260424T154544
CREATED:20201223T122131Z
LAST-MODIFIED:20201223T122131Z
UID:10158-1609351200-1609448400@ardeemall.com
SUMMARY:Festival of Rejoice
DESCRIPTION:The Ardee Mall Festival of Rejoice is here and we are all set to make it a merry event with a melodious live musical performance. Shop all you want and then sway to the tunes . \nPerformance on 30th and 31st December. See you there \n🏢 Venue: Ardee Mall Atrium\, Sector 52\, Gurugram\n🗓 Date: 30th December 2020 – 31st December 2020\n🕚 Time: 6PM – 9PM \n
URL:https://ardeemall.com/event/festival-of-rejoice-3/
LOCATION:Ardee Mall\, Ardee City Rd\, Block B\, Ardee City\, Sector 52\,\, Gurugram\, Haryana\, 122022\, India
CATEGORIES:Entertainment
ATTACH;FMTTYPE=image/jpeg:https://ardeemall.com/wp-content/uploads/2020/12/Event-2-min-scaled.jpg
END:VEVENT
END:VCALENDAR