BEGIN:VCALENDAR
VERSION:2.0
PRODID:-//Ardee Mall - ECPv5.1.4//NONSGML v1.0//EN
CALSCALE:GREGORIAN
METHOD:PUBLISH
X-WR-CALNAME:Ardee Mall
X-ORIGINAL-URL:https://ardeemall.com
X-WR-CALDESC:Events for Ardee Mall
BEGIN:VTIMEZONE
TZID:UTC
BEGIN:STANDARD
TZOFFSETFROM:+0000
TZOFFSETTO:+0000
TZNAME:UTC
DTSTART:20220101T000000
END:STANDARD
END:VTIMEZONE
BEGIN:VEVENT
DTSTART;VALUE=DATE:20220619
DTEND;VALUE=DATE:20220620
DTSTAMP:20260423T210235
CREATED:20230226T043018Z
LAST-MODIFIED:20230226T043018Z
UID:10643-1655596800-1655683199@ardeemall.com
SUMMARY:Father's day
DESCRIPTION:    \n
URL:https://ardeemall.com/event/fathers-day/
ATTACH;FMTTYPE=image/jpeg:https://ardeemall.com/wp-content/uploads/2023/02/287265837_1254444385360595_5116546371166122772_n.jpg
END:VEVENT
END:VCALENDAR