BEGIN:VCALENDAR
VERSION:2.0
PRODID:-//Ardee Mall - ECPv5.1.4//NONSGML v1.0//EN
CALSCALE:GREGORIAN
METHOD:PUBLISH
X-WR-CALNAME:Ardee Mall
X-ORIGINAL-URL:https://ardeemall.com
X-WR-CALDESC:Events for Ardee Mall
BEGIN:VTIMEZONE
TZID:UTC
BEGIN:STANDARD
TZOFFSETFROM:+0000
TZOFFSETTO:+0000
TZNAME:UTC
DTSTART:20210101T000000
END:STANDARD
END:VTIMEZONE
BEGIN:VEVENT
DTSTART;TZID=UTC:20210214T110000
DTEND;TZID=UTC:20210214T213000
DTSTAMP:20260424T155233
CREATED:20210208T060422Z
LAST-MODIFIED:20210208T060422Z
UID:10169-1613300400-1613338200@ardeemall.com
SUMMARY:Cupid Jamboree
DESCRIPTION:Your Valentine’s Day plans just got a whole lot more exciting! \nHead over with your partner to the Ardee Mall Cupid Jamboree on Valentine’s Day (14.02.2021) and play fun couple games to win some great prizes. Enjoy live singing. And top it all off with shared laughter over a stand up routine by a comedian. \nVenue – Ardee Mall Atrium\, Sector 52\, Gurugram\nDate – 14 Feb 2021\nTime – 11AM -9.30 PM \n
URL:https://ardeemall.com/event/cupid-jamboree/
LOCATION:Ardee Mall\, Ardee City Rd\, Block B\, Ardee City\, Sector 52\,\, Gurugram\, Haryana\, 122022\, India
CATEGORIES:Entertainment
ATTACH;FMTTYPE=image/jpeg:https://ardeemall.com/wp-content/uploads/2021/02/WhatsApp-Image-2021-02-08-at-10.41.25-AM.jpeg
END:VEVENT
END:VCALENDAR