BEGIN:VCALENDAR
VERSION:2.0
PRODID:-//Ardee Mall - ECPv5.1.4//NONSGML v1.0//EN
CALSCALE:GREGORIAN
METHOD:PUBLISH
X-WR-CALNAME:Ardee Mall
X-ORIGINAL-URL:https://ardeemall.com
X-WR-CALDESC:Events for Ardee Mall
BEGIN:VTIMEZONE
TZID:UTC
BEGIN:STANDARD
TZOFFSETFROM:+0000
TZOFFSETTO:+0000
TZNAME:UTC
DTSTART:20200101T000000
END:STANDARD
END:VTIMEZONE
BEGIN:VEVENT
DTSTART;TZID=UTC:20200207T140000
DTEND;TZID=UTC:20200220T140000
DTSTAMP:20260424T173158
CREATED:20200207T110710Z
LAST-MODIFIED:20200207T132521Z
UID:9926-1581084000-1582207200@ardeemall.com
SUMMARY:Carnival of Love
DESCRIPTION:It is the month of Love at #KhushiyonKaMall Ardee Mall. \nExpress your love with a personalized song through Love Juke Box event (7th to 14th Feb 2020)\, and also try to put in place the pieces of heart puzzle together through Love Puzzles event (15th to 20th Feb 2020) during the Carnival of Love from 7th to 20th Feb 2020 only at Ardee Mall\, Sector-52\, Gurugram. \n#ArdeeMall #CarnivalOfLove \n
URL:https://ardeemall.com/event/carnival-of-love/
LOCATION:Ardee Mall\, Ardee City Rd\, Block B\, Ardee City\, Sector 52\,\, Gurugram\, Haryana\, 122022\, India
CATEGORIES:Entertainment
ATTACH;FMTTYPE=image/jpeg:https://ardeemall.com/wp-content/uploads/2020/02/2020-02-06-1.jpg
END:VEVENT
END:VCALENDAR